BEGIN:VCALENDAR
VERSION:2.0
PRODID:-//Operations &amp; Facilities Management Department//NONSGML Events//EN
CALSCALE:GREGORIAN
X-ORIGINAL-URL:https://facilities.med.wustl.edu/events/
X-WR-CALDESC:Operations &amp; Facilities Management Department - Events
BEGIN:VEVENT
UID:20240326T1639Z-1711471164.5817-EO-62225-1@172.23.128.18
STATUS:CONFIRMED
DTSTAMP:20260424T133739Z
CREATED:20240326T161815Z
LAST-MODIFIED:20240326T161815Z
DTSTART;TZID=America/Chicago:20240404T100000
DTEND;TZID=America/Chicago:20240404T140000
SUMMARY: WUSM Bike Tune-Up
DESCRIPTION: The free bike tune-ups will be performed by Vanimal\, a mobile
  bike shop that provides repair services for every kind of bike. This local
 ly operated company has creatively managed to fit a whole repair station in
  the back of a van! Within these few cubic meters\, Francesca DeRanzo\, own
 er and operator of Vanimal\, performs repairs and […]
X-ALT-DESC;FMTTYPE=text/html: <p>The free bike tune-ups will be performed b
 y <a href="https://www.vanimalstl.com/" target="_blank" rel="noreferrer noo
 pener">Vanimal</a>\, a mobile bike shop that provides repair services for e
 very kind of bike. This locally operated company has creatively managed to 
 fit a whole repair station in the back of a van! Within these few cubic met
 ers\, Francesca DeRanzo\, owner and operator of Vanimal\, performs repairs 
 and shares basic maintenance tips that will extend the life of your bike an
 d increase safety.</p><p><strong>* Free Tune-Ups Rules:</strong></p><ul><li
 >Bike tune-ups are provided to WashU faculty\, staff\, and students only.</
 li><li>Please check in sustainability table (look for people wearing the su
 stainability shirt!)</li><li>There are 25 spots for the free tune-ups. We c
 annot guarantee service for bikes brought after 1:30p or after the 25nd slo
 t is full. Bikes will generally be served on a first-come\, first-serve bas
 is. However\, priority will be given to those who have filled out this <a h
 ref="https://docs.google.com/forms/d/e/1FAIpQLScwG3rWzONCNrA40nZZezDdReevLQ
 k6h4D_XfGGQqHhozzx5g/viewform?usp=sf_link">sign up form</a>.</li><li>Free t
 une-ups cover basic maintenance only\; bike owners may purchase parts on si
 te or will be referred to a bike shop if repair needs do not fit within the
  scope of the basic tune-up.</li><li>You will be able to leave your bike fo
 r repair and receive a text when it is ready for pick up. In the mean time\
 , visit the <a href="https://sustainability.wustl.edu/calendar_event/wusm-f
 armers-market-2/">farmers’ market</a>!</li><li><strong>All bikes must be pi
 cked up by 2:00pm when the event ends. Bike tune up staff do not take respo
 nsibility for bikes left after 2:00pm.</strong></li></ul>
CATEGORIES:Events,Sustainability Events
LOCATION:University of Health Sciences and Pharmacy Quad
GEO:0.000000;0.000000
ORGANIZER;CN="Erin":MAILTO:erink@wustl.edu
URL;VALUE=URI:https://facilities.med.wustl.edu/events/event/wusm-bike-tune-
 up/
END:VEVENT
BEGIN:VTIMEZONE
TZID:America/Chicago
BEGIN:DAYLIGHT
TZOFFSETFROM:-0600
TZOFFSETTO:-0500
DTSTART:20240310T080000
TZNAME:CDT
END:DAYLIGHT
END:VTIMEZONE
END:VCALENDAR
